BEGIN:VCALENDAR
VERSION:2.0
PRODID:-//ChamberMaster//Event Calendar 2.0//EN
METHOD:PUBLISH
X-PUBLISHED-TTL:P1H
REFRESH-INTERVAL:P1H
CALSCALE:GREGORIAN
BEGIN:VTIMEZONE
TZID:America/Chicago
BEGIN:DAYLIGHT
RRULE:FREQ=YEARLY;BYMONTH=3;BYDAY=2SU
DTSTART:20070101T000000
TZOFFSETFROM:-0600
TZOFFSETTO:-0500
TZNAME:Central Daylight Time
END:DAYLIGHT
BEGIN:STANDARD
RRULE:FREQ=YEARLY;BYMONTH=11;BYDAY=1SU
DTSTART:20070101T000000
TZOFFSETFROM:-0500
TZOFFSETTO:-0600
TZNAME:Central Standard Time
END:STANDARD
END:VTIMEZONE
BEGIN:VEVENT
DTSTART;TZID=America/Chicago:20260521T170000
DTEND;TZID=America/Chicago:20260521T190000
X-MICROSOFT-CDO-ALLDAYEVENT:FALSE
SUMMARY:Cyber Happy Hour
DESCRIPTION:Save the date for the first of the 2026 Cybersecurity series with sponsor\, DTG! \n\nThis is a great chance to engage with the local tech community in a relaxed\, social setting. Whether you are in cybersecurity or not\, this event is open to all sectors of tech. Casual or business casual attire welcome.\n\nPlease note\, this event is only open to guests 21 and over.\n\nMembers are free\, nonmembers are $25.
X-ALT-DESC;FMTTYPE=text/html:Save the date for the first of the 2026 Cybersecurity series with sponsor\, DTG! \n\nThis is a great chance to engage with the local tech community in a relaxed\, social setting. Whether you are in cybersecurity or not\, this event is open to all sectors of tech. Casual or business casual attire welcome.\n\nPlease note\, this event is only open to guests 21 and over.\n\nMembers are free\, nonmembers are $25.
LOCATION:MO
UID:e.2591.1444909
SEQUENCE:3
DTSTAMP:20260425T161709Z
URL:http://members.growthzoneapp.com/eventcalendar/Details/cyber-happy-hour-1711325?sourceTypeId=Hub
END:VEVENT
END:VCALENDAR
