BEGIN:VCALENDAR
VERSION:2.0
PRODID:-//ChamberMaster//Event Calendar 2.0//EN
METHOD:PUBLISH
X-PUBLISHED-TTL:P1H
REFRESH-INTERVAL:P1H
CALSCALE:GREGORIAN
BEGIN:VTIMEZONE
TZID:America/Chicago
BEGIN:DAYLIGHT
RRULE:FREQ=YEARLY;BYMONTH=3;BYDAY=2SU
DTSTART:20070101T000000
TZOFFSETFROM:-0600
TZOFFSETTO:-0500
TZNAME:Central Daylight Time
END:DAYLIGHT
BEGIN:STANDARD
RRULE:FREQ=YEARLY;BYMONTH=11;BYDAY=1SU
DTSTART:20070101T000000
TZOFFSETFROM:-0500
TZOFFSETTO:-0600
TZNAME:Central Standard Time
END:STANDARD
END:VTIMEZONE
BEGIN:VEVENT
DTSTART;TZID=America/Chicago:20260514T113000
DTEND;TZID=America/Chicago:20260514T130000
X-MICROSOFT-CDO-ALLDAYEVENT:FALSE
SUMMARY:May Learning Over Lunch
DESCRIPTION:Speaker and topic coming soon!Members are free\, Nonmembers are $25. Networking and lunch begin at 11:30 with programming following at approximately noon. The May Learning Over Lunch is sponsored by eSCO Processing and Recycling.STC's Learning Over Lunch events are typically held the second Thursday of the month at the efactory. Subject to change based on speaker\, venue\, and sponsor availability.
X-ALT-DESC;FMTTYPE=text/html:<!DOCTYPE html><html><head><title></title></head><body aria-disabled="false"><p>Speaker and topic coming soon!</p><p data-pm-slice="1 1 []" data-rte-preserve-empty="true" style="white-space: pre-wrap\;">Members are free\, Nonmembers are $25. Networking and lunch begin at 11:30 with programming following at approximately noon. The May Learning Over Lunch is sponsored by eSCO Processing and Recycling.</p><p>STC&#39\;s Learning Over Lunch events are typically held the second Thursday of the month at the efactory. Subject to change based on speaker\, venue\, and sponsor availability.</p></body></html>
LOCATION:405 N Jefferson Ave Springfield MO 65806
UID:e.2591.1374483
SEQUENCE:3
DTSTAMP:20260425T161709Z
URL:http://members.growthzoneapp.com/eventcalendar/Details/may-learning-over-lunch-1622618?sourceTypeId=Hub
END:VEVENT
END:VCALENDAR
